BEGIN:VCALENDAR
VERSION:2.0
PRODID:-//Border Brewing Co - ECPv6.15.20//NONSGML v1.0//EN
CALSCALE:GREGORIAN
METHOD:PUBLISH
X-ORIGINAL-URL:https://borderbrewco.com
X-WR-CALDESC:Events for Border Brewing Co
REFRESH-INTERVAL;VALUE=DURATION:PT1H
X-Robots-Tag:noindex
X-PUBLISHED-TTL:PT1H
BEGIN:VTIMEZONE
TZID:UTC
BEGIN:STANDARD
TZOFFSETFROM:+0000
TZOFFSETTO:+0000
TZNAME:UTC
DTSTART:20240101T000000
END:STANDARD
END:VTIMEZONE
BEGIN:VEVENT
DTSTART;TZID=UTC:20250922T130000
DTEND;TZID=UTC:20250922T170000
DTSTAMP:20260420T083123
CREATED:20250916T193725Z
LAST-MODIFIED:20250916T193856Z
UID:10000526-1758546000-1758560400@borderbrewco.com
SUMMARY:Oktoberfest at Border Brewing Co.
DESCRIPTION:🎉 Oktoberfest – Sunday\, 1–5pmOur annual Oktoberfest celebration is here! Expect: \n\n\nLive Music starting at 1pm \n\n\nVibetown Smashburgers bringing the flavor (check them out here) \n\n\nAnd the great beer excavation begins at 2pm — yes\, we actually buried beer\, and yes\, we’re digging it up! \n\n\nIt’s going to be a laid-back\, music-filled afternoon with great food and fun — don’t miss it!
URL:https://borderbrewco.com/event/oktoberfest-at-border-brewing-co/
LOCATION:MO
ATTACH;FMTTYPE=image/png:https://borderbrewco.com/wp-content/uploads/2025/09/1Oktoberfest.pdf-8.166-×-8.166-in-8.5-x-11-in-1.png
END:VEVENT
END:VCALENDAR