BEGIN:VCALENDAR
VERSION:2.0
PRODID:-//Border Brewing Co - ECPv6.15.20//NONSGML v1.0//EN
CALSCALE:GREGORIAN
METHOD:PUBLISH
X-ORIGINAL-URL:https://borderbrewco.com
X-WR-CALDESC:Events for Border Brewing Co
REFRESH-INTERVAL;VALUE=DURATION:PT1H
X-Robots-Tag:noindex
X-PUBLISHED-TTL:PT1H
BEGIN:VTIMEZONE
TZID:UTC
BEGIN:STANDARD
TZOFFSETFROM:+0000
TZOFFSETTO:+0000
TZNAME:UTC
DTSTART:20260101T000000
END:STANDARD
END:VTIMEZONE
BEGIN:VEVENT
DTSTART;TZID=UTC:20271201T183000
DTEND;TZID=UTC:20271201T213000
DTSTAMP:20260420T210351
CREATED:20250708T205812Z
LAST-MODIFIED:20250916T192614Z
UID:10000119-1827685800-1827696600@borderbrewco.com
SUMMARY:Trivia Night
DESCRIPTION:Weekly Trivia Night at Border Brewing\nEvery Wednesday | 6:30 PM | $5 Cover \nLooking for a trivia night that’s actually fun?Join us every Wednesday for Jeopardy-style trivia — a unique spin on game night with category boards\, escalating point values\, and Final Jeopardy-style wagering. \nThis isn’t your average bar trivia.\nExpect: \n• Thought-provoking questions across pop culture\, history\, science\, and more \n• Strategic gameplay that rewards brains and bold moves \n• Cash prizes for the top teams \n• Streetcar Pizza available on-site \n🎟 $5 per person to play (teams of up to 6)🍻 Taproom opens at 4 PM — come early to grab your table and your first pint \nGame kicks off at 6:30.Bring your crew\, flex your trivia brain\, and compete for bragging rights (and cash).
URL:https://borderbrewco.com/event/trivia-night/2027-12-01/
LOCATION:Border Brewing Company\, 512 E 18th Street\, Kansas City\, MO\, 64108\, United States
ATTACH;FMTTYPE=image/png:https://borderbrewco.com/wp-content/uploads/2025/07/Unknown.png
ORGANIZER;CN="Border Brewing Company":MAILTO:info@borderbrewco.com
END:VEVENT
BEGIN:VEVENT
DTSTART;TZID=UTC:20271202T160000
DTEND;TZID=UTC:20271202T210000
DTSTAMP:20260420T210351
CREATED:20250916T193343Z
LAST-MODIFIED:20250916T193343Z
UID:10000380-1827763200-1827781200@borderbrewco.com
SUMMARY:Test Batch Thursday
DESCRIPTION:Test Batch Thursday (4–9pm)\nEvery Thursday we tap a brand-new\, small experimental batch—think fresh ideas\, seasonal twists\, and one-off flavors you won’t find anywhere else. Pours are limited and often sell out\, so come early if you’ve got a curious palate. Grab a taste\, leave feedback\, and help us decide what should make it to the big tanks. Rotating options\, easy vibes\, and something different every week.
URL:https://borderbrewco.com/event/test-batch-thursday/2027-12-02/
LOCATION:MO
ATTACH;FMTTYPE=image/png:https://borderbrewco.com/wp-content/uploads/2025/09/tbtweb.png
END:VEVENT
BEGIN:VEVENT
DTSTART;TZID=UTC:20271208T183000
DTEND;TZID=UTC:20271208T213000
DTSTAMP:20260420T210351
CREATED:20250708T205812Z
LAST-MODIFIED:20250916T192614Z
UID:10000120-1828290600-1828301400@borderbrewco.com
SUMMARY:Trivia Night
DESCRIPTION:Weekly Trivia Night at Border Brewing\nEvery Wednesday | 6:30 PM | $5 Cover \nLooking for a trivia night that’s actually fun?Join us every Wednesday for Jeopardy-style trivia — a unique spin on game night with category boards\, escalating point values\, and Final Jeopardy-style wagering. \nThis isn’t your average bar trivia.\nExpect: \n• Thought-provoking questions across pop culture\, history\, science\, and more \n• Strategic gameplay that rewards brains and bold moves \n• Cash prizes for the top teams \n• Streetcar Pizza available on-site \n🎟 $5 per person to play (teams of up to 6)🍻 Taproom opens at 4 PM — come early to grab your table and your first pint \nGame kicks off at 6:30.Bring your crew\, flex your trivia brain\, and compete for bragging rights (and cash).
URL:https://borderbrewco.com/event/trivia-night/2027-12-08/
LOCATION:Border Brewing Company\, 512 E 18th Street\, Kansas City\, MO\, 64108\, United States
ATTACH;FMTTYPE=image/png:https://borderbrewco.com/wp-content/uploads/2025/07/Unknown.png
ORGANIZER;CN="Border Brewing Company":MAILTO:info@borderbrewco.com
END:VEVENT
BEGIN:VEVENT
DTSTART;TZID=UTC:20271209T160000
DTEND;TZID=UTC:20271209T210000
DTSTAMP:20260420T210351
CREATED:20250916T193343Z
LAST-MODIFIED:20250916T193343Z
UID:10000381-1828368000-1828386000@borderbrewco.com
SUMMARY:Test Batch Thursday
DESCRIPTION:Test Batch Thursday (4–9pm)\nEvery Thursday we tap a brand-new\, small experimental batch—think fresh ideas\, seasonal twists\, and one-off flavors you won’t find anywhere else. Pours are limited and often sell out\, so come early if you’ve got a curious palate. Grab a taste\, leave feedback\, and help us decide what should make it to the big tanks. Rotating options\, easy vibes\, and something different every week.
URL:https://borderbrewco.com/event/test-batch-thursday/2027-12-09/
LOCATION:MO
ATTACH;FMTTYPE=image/png:https://borderbrewco.com/wp-content/uploads/2025/09/tbtweb.png
END:VEVENT
BEGIN:VEVENT
DTSTART;TZID=UTC:20271215T183000
DTEND;TZID=UTC:20271215T213000
DTSTAMP:20260420T210351
CREATED:20250708T205812Z
LAST-MODIFIED:20250916T192614Z
UID:10000121-1828895400-1828906200@borderbrewco.com
SUMMARY:Trivia Night
DESCRIPTION:Weekly Trivia Night at Border Brewing\nEvery Wednesday | 6:30 PM | $5 Cover \nLooking for a trivia night that’s actually fun?Join us every Wednesday for Jeopardy-style trivia — a unique spin on game night with category boards\, escalating point values\, and Final Jeopardy-style wagering. \nThis isn’t your average bar trivia.\nExpect: \n• Thought-provoking questions across pop culture\, history\, science\, and more \n• Strategic gameplay that rewards brains and bold moves \n• Cash prizes for the top teams \n• Streetcar Pizza available on-site \n🎟 $5 per person to play (teams of up to 6)🍻 Taproom opens at 4 PM — come early to grab your table and your first pint \nGame kicks off at 6:30.Bring your crew\, flex your trivia brain\, and compete for bragging rights (and cash).
URL:https://borderbrewco.com/event/trivia-night/2027-12-15/
LOCATION:Border Brewing Company\, 512 E 18th Street\, Kansas City\, MO\, 64108\, United States
ATTACH;FMTTYPE=image/png:https://borderbrewco.com/wp-content/uploads/2025/07/Unknown.png
ORGANIZER;CN="Border Brewing Company":MAILTO:info@borderbrewco.com
END:VEVENT
BEGIN:VEVENT
DTSTART;TZID=UTC:20271216T160000
DTEND;TZID=UTC:20271216T210000
DTSTAMP:20260420T210351
CREATED:20250916T193343Z
LAST-MODIFIED:20250916T193343Z
UID:10000382-1828972800-1828990800@borderbrewco.com
SUMMARY:Test Batch Thursday
DESCRIPTION:Test Batch Thursday (4–9pm)\nEvery Thursday we tap a brand-new\, small experimental batch—think fresh ideas\, seasonal twists\, and one-off flavors you won’t find anywhere else. Pours are limited and often sell out\, so come early if you’ve got a curious palate. Grab a taste\, leave feedback\, and help us decide what should make it to the big tanks. Rotating options\, easy vibes\, and something different every week.
URL:https://borderbrewco.com/event/test-batch-thursday/2027-12-16/
LOCATION:MO
ATTACH;FMTTYPE=image/png:https://borderbrewco.com/wp-content/uploads/2025/09/tbtweb.png
END:VEVENT
BEGIN:VEVENT
DTSTART;TZID=UTC:20271222T183000
DTEND;TZID=UTC:20271222T213000
DTSTAMP:20260420T210351
CREATED:20250708T205812Z
LAST-MODIFIED:20250916T192614Z
UID:10000122-1829500200-1829511000@borderbrewco.com
SUMMARY:Trivia Night
DESCRIPTION:Weekly Trivia Night at Border Brewing\nEvery Wednesday | 6:30 PM | $5 Cover \nLooking for a trivia night that’s actually fun?Join us every Wednesday for Jeopardy-style trivia — a unique spin on game night with category boards\, escalating point values\, and Final Jeopardy-style wagering. \nThis isn’t your average bar trivia.\nExpect: \n• Thought-provoking questions across pop culture\, history\, science\, and more \n• Strategic gameplay that rewards brains and bold moves \n• Cash prizes for the top teams \n• Streetcar Pizza available on-site \n🎟 $5 per person to play (teams of up to 6)🍻 Taproom opens at 4 PM — come early to grab your table and your first pint \nGame kicks off at 6:30.Bring your crew\, flex your trivia brain\, and compete for bragging rights (and cash).
URL:https://borderbrewco.com/event/trivia-night/2027-12-22/
LOCATION:Border Brewing Company\, 512 E 18th Street\, Kansas City\, MO\, 64108\, United States
ATTACH;FMTTYPE=image/png:https://borderbrewco.com/wp-content/uploads/2025/07/Unknown.png
ORGANIZER;CN="Border Brewing Company":MAILTO:info@borderbrewco.com
END:VEVENT
BEGIN:VEVENT
DTSTART;TZID=UTC:20271223T160000
DTEND;TZID=UTC:20271223T210000
DTSTAMP:20260420T210351
CREATED:20250916T193343Z
LAST-MODIFIED:20250916T193343Z
UID:10000383-1829577600-1829595600@borderbrewco.com
SUMMARY:Test Batch Thursday
DESCRIPTION:Test Batch Thursday (4–9pm)\nEvery Thursday we tap a brand-new\, small experimental batch—think fresh ideas\, seasonal twists\, and one-off flavors you won’t find anywhere else. Pours are limited and often sell out\, so come early if you’ve got a curious palate. Grab a taste\, leave feedback\, and help us decide what should make it to the big tanks. Rotating options\, easy vibes\, and something different every week.
URL:https://borderbrewco.com/event/test-batch-thursday/2027-12-23/
LOCATION:MO
ATTACH;FMTTYPE=image/png:https://borderbrewco.com/wp-content/uploads/2025/09/tbtweb.png
END:VEVENT
BEGIN:VEVENT
DTSTART;TZID=UTC:20271229T183000
DTEND;TZID=UTC:20271229T213000
DTSTAMP:20260420T210351
CREATED:20250708T205812Z
LAST-MODIFIED:20250916T192614Z
UID:10000123-1830105000-1830115800@borderbrewco.com
SUMMARY:Trivia Night
DESCRIPTION:Weekly Trivia Night at Border Brewing\nEvery Wednesday | 6:30 PM | $5 Cover \nLooking for a trivia night that’s actually fun?Join us every Wednesday for Jeopardy-style trivia — a unique spin on game night with category boards\, escalating point values\, and Final Jeopardy-style wagering. \nThis isn’t your average bar trivia.\nExpect: \n• Thought-provoking questions across pop culture\, history\, science\, and more \n• Strategic gameplay that rewards brains and bold moves \n• Cash prizes for the top teams \n• Streetcar Pizza available on-site \n🎟 $5 per person to play (teams of up to 6)🍻 Taproom opens at 4 PM — come early to grab your table and your first pint \nGame kicks off at 6:30.Bring your crew\, flex your trivia brain\, and compete for bragging rights (and cash).
URL:https://borderbrewco.com/event/trivia-night/2027-12-29/
LOCATION:Border Brewing Company\, 512 E 18th Street\, Kansas City\, MO\, 64108\, United States
ATTACH;FMTTYPE=image/png:https://borderbrewco.com/wp-content/uploads/2025/07/Unknown.png
ORGANIZER;CN="Border Brewing Company":MAILTO:info@borderbrewco.com
END:VEVENT
BEGIN:VEVENT
DTSTART;TZID=UTC:20271230T160000
DTEND;TZID=UTC:20271230T210000
DTSTAMP:20260420T210351
CREATED:20250916T193343Z
LAST-MODIFIED:20250916T193343Z
UID:10000384-1830182400-1830200400@borderbrewco.com
SUMMARY:Test Batch Thursday
DESCRIPTION:Test Batch Thursday (4–9pm)\nEvery Thursday we tap a brand-new\, small experimental batch—think fresh ideas\, seasonal twists\, and one-off flavors you won’t find anywhere else. Pours are limited and often sell out\, so come early if you’ve got a curious palate. Grab a taste\, leave feedback\, and help us decide what should make it to the big tanks. Rotating options\, easy vibes\, and something different every week.
URL:https://borderbrewco.com/event/test-batch-thursday/2027-12-30/
LOCATION:MO
ATTACH;FMTTYPE=image/png:https://borderbrewco.com/wp-content/uploads/2025/09/tbtweb.png
END:VEVENT
END:VCALENDAR