BEGIN:VCALENDAR
VERSION:2.0
PRODID:-//Border Brewing Co - ECPv6.15.20//NONSGML v1.0//EN
CALSCALE:GREGORIAN
METHOD:PUBLISH
X-ORIGINAL-URL:https://borderbrewco.com
X-WR-CALDESC:Events for Border Brewing Co
REFRESH-INTERVAL;VALUE=DURATION:PT1H
X-Robots-Tag:noindex
X-PUBLISHED-TTL:PT1H
BEGIN:VTIMEZONE
TZID:UTC
BEGIN:STANDARD
TZOFFSETFROM:+0000
TZOFFSETTO:+0000
TZNAME:UTC
DTSTART:20270101T000000
END:STANDARD
END:VTIMEZONE
BEGIN:VEVENT
DTSTART;TZID=UTC:20280301T183000
DTEND;TZID=UTC:20280301T213000
DTSTAMP:20260421T010731
CREATED:20250708T205812Z
LAST-MODIFIED:20250916T192614Z
UID:10000132-1835548200-1835559000@borderbrewco.com
SUMMARY:Trivia Night
DESCRIPTION:Weekly Trivia Night at Border Brewing\nEvery Wednesday | 6:30 PM | $5 Cover \nLooking for a trivia night that’s actually fun?Join us every Wednesday for Jeopardy-style trivia — a unique spin on game night with category boards\, escalating point values\, and Final Jeopardy-style wagering. \nThis isn’t your average bar trivia.\nExpect: \n• Thought-provoking questions across pop culture\, history\, science\, and more \n• Strategic gameplay that rewards brains and bold moves \n• Cash prizes for the top teams \n• Streetcar Pizza available on-site \n🎟 $5 per person to play (teams of up to 6)🍻 Taproom opens at 4 PM — come early to grab your table and your first pint \nGame kicks off at 6:30.Bring your crew\, flex your trivia brain\, and compete for bragging rights (and cash).
URL:https://borderbrewco.com/event/trivia-night/2028-03-01/
LOCATION:Border Brewing Company\, 512 E 18th Street\, Kansas City\, MO\, 64108\, United States
ATTACH;FMTTYPE=image/png:https://borderbrewco.com/wp-content/uploads/2025/07/Unknown.png
ORGANIZER;CN="Border Brewing Company":MAILTO:info@borderbrewco.com
END:VEVENT
BEGIN:VEVENT
DTSTART;TZID=UTC:20280302T160000
DTEND;TZID=UTC:20280302T210000
DTSTAMP:20260421T010731
CREATED:20250916T193343Z
LAST-MODIFIED:20250916T193343Z
UID:10000393-1835625600-1835643600@borderbrewco.com
SUMMARY:Test Batch Thursday
DESCRIPTION:Test Batch Thursday (4–9pm)\nEvery Thursday we tap a brand-new\, small experimental batch—think fresh ideas\, seasonal twists\, and one-off flavors you won’t find anywhere else. Pours are limited and often sell out\, so come early if you’ve got a curious palate. Grab a taste\, leave feedback\, and help us decide what should make it to the big tanks. Rotating options\, easy vibes\, and something different every week.
URL:https://borderbrewco.com/event/test-batch-thursday/2028-03-02/
LOCATION:MO
ATTACH;FMTTYPE=image/png:https://borderbrewco.com/wp-content/uploads/2025/09/tbtweb.png
END:VEVENT
BEGIN:VEVENT
DTSTART;TZID=UTC:20280308T183000
DTEND;TZID=UTC:20280308T213000
DTSTAMP:20260421T010731
CREATED:20250708T205812Z
LAST-MODIFIED:20250916T192614Z
UID:10000133-1836153000-1836163800@borderbrewco.com
SUMMARY:Trivia Night
DESCRIPTION:Weekly Trivia Night at Border Brewing\nEvery Wednesday | 6:30 PM | $5 Cover \nLooking for a trivia night that’s actually fun?Join us every Wednesday for Jeopardy-style trivia — a unique spin on game night with category boards\, escalating point values\, and Final Jeopardy-style wagering. \nThis isn’t your average bar trivia.\nExpect: \n• Thought-provoking questions across pop culture\, history\, science\, and more \n• Strategic gameplay that rewards brains and bold moves \n• Cash prizes for the top teams \n• Streetcar Pizza available on-site \n🎟 $5 per person to play (teams of up to 6)🍻 Taproom opens at 4 PM — come early to grab your table and your first pint \nGame kicks off at 6:30.Bring your crew\, flex your trivia brain\, and compete for bragging rights (and cash).
URL:https://borderbrewco.com/event/trivia-night/2028-03-08/
LOCATION:Border Brewing Company\, 512 E 18th Street\, Kansas City\, MO\, 64108\, United States
ATTACH;FMTTYPE=image/png:https://borderbrewco.com/wp-content/uploads/2025/07/Unknown.png
ORGANIZER;CN="Border Brewing Company":MAILTO:info@borderbrewco.com
END:VEVENT
BEGIN:VEVENT
DTSTART;TZID=UTC:20280309T160000
DTEND;TZID=UTC:20280309T210000
DTSTAMP:20260421T010731
CREATED:20250916T193343Z
LAST-MODIFIED:20250916T193343Z
UID:10000394-1836230400-1836248400@borderbrewco.com
SUMMARY:Test Batch Thursday
DESCRIPTION:Test Batch Thursday (4–9pm)\nEvery Thursday we tap a brand-new\, small experimental batch—think fresh ideas\, seasonal twists\, and one-off flavors you won’t find anywhere else. Pours are limited and often sell out\, so come early if you’ve got a curious palate. Grab a taste\, leave feedback\, and help us decide what should make it to the big tanks. Rotating options\, easy vibes\, and something different every week.
URL:https://borderbrewco.com/event/test-batch-thursday/2028-03-09/
LOCATION:MO
ATTACH;FMTTYPE=image/png:https://borderbrewco.com/wp-content/uploads/2025/09/tbtweb.png
END:VEVENT
BEGIN:VEVENT
DTSTART;TZID=UTC:20280315T183000
DTEND;TZID=UTC:20280315T213000
DTSTAMP:20260421T010731
CREATED:20250708T205812Z
LAST-MODIFIED:20250916T192614Z
UID:10000134-1836757800-1836768600@borderbrewco.com
SUMMARY:Trivia Night
DESCRIPTION:Weekly Trivia Night at Border Brewing\nEvery Wednesday | 6:30 PM | $5 Cover \nLooking for a trivia night that’s actually fun?Join us every Wednesday for Jeopardy-style trivia — a unique spin on game night with category boards\, escalating point values\, and Final Jeopardy-style wagering. \nThis isn’t your average bar trivia.\nExpect: \n• Thought-provoking questions across pop culture\, history\, science\, and more \n• Strategic gameplay that rewards brains and bold moves \n• Cash prizes for the top teams \n• Streetcar Pizza available on-site \n🎟 $5 per person to play (teams of up to 6)🍻 Taproom opens at 4 PM — come early to grab your table and your first pint \nGame kicks off at 6:30.Bring your crew\, flex your trivia brain\, and compete for bragging rights (and cash).
URL:https://borderbrewco.com/event/trivia-night/2028-03-15/
LOCATION:Border Brewing Company\, 512 E 18th Street\, Kansas City\, MO\, 64108\, United States
ATTACH;FMTTYPE=image/png:https://borderbrewco.com/wp-content/uploads/2025/07/Unknown.png
ORGANIZER;CN="Border Brewing Company":MAILTO:info@borderbrewco.com
END:VEVENT
BEGIN:VEVENT
DTSTART;TZID=UTC:20280316T160000
DTEND;TZID=UTC:20280316T210000
DTSTAMP:20260421T010731
CREATED:20250916T193343Z
LAST-MODIFIED:20250916T193343Z
UID:10000395-1836835200-1836853200@borderbrewco.com
SUMMARY:Test Batch Thursday
DESCRIPTION:Test Batch Thursday (4–9pm)\nEvery Thursday we tap a brand-new\, small experimental batch—think fresh ideas\, seasonal twists\, and one-off flavors you won’t find anywhere else. Pours are limited and often sell out\, so come early if you’ve got a curious palate. Grab a taste\, leave feedback\, and help us decide what should make it to the big tanks. Rotating options\, easy vibes\, and something different every week.
URL:https://borderbrewco.com/event/test-batch-thursday/2028-03-16/
LOCATION:MO
ATTACH;FMTTYPE=image/png:https://borderbrewco.com/wp-content/uploads/2025/09/tbtweb.png
END:VEVENT
BEGIN:VEVENT
DTSTART;TZID=UTC:20280322T183000
DTEND;TZID=UTC:20280322T213000
DTSTAMP:20260421T010731
CREATED:20250708T205812Z
LAST-MODIFIED:20250916T192614Z
UID:10000135-1837362600-1837373400@borderbrewco.com
SUMMARY:Trivia Night
DESCRIPTION:Weekly Trivia Night at Border Brewing\nEvery Wednesday | 6:30 PM | $5 Cover \nLooking for a trivia night that’s actually fun?Join us every Wednesday for Jeopardy-style trivia — a unique spin on game night with category boards\, escalating point values\, and Final Jeopardy-style wagering. \nThis isn’t your average bar trivia.\nExpect: \n• Thought-provoking questions across pop culture\, history\, science\, and more \n• Strategic gameplay that rewards brains and bold moves \n• Cash prizes for the top teams \n• Streetcar Pizza available on-site \n🎟 $5 per person to play (teams of up to 6)🍻 Taproom opens at 4 PM — come early to grab your table and your first pint \nGame kicks off at 6:30.Bring your crew\, flex your trivia brain\, and compete for bragging rights (and cash).
URL:https://borderbrewco.com/event/trivia-night/2028-03-22/
LOCATION:Border Brewing Company\, 512 E 18th Street\, Kansas City\, MO\, 64108\, United States
ATTACH;FMTTYPE=image/png:https://borderbrewco.com/wp-content/uploads/2025/07/Unknown.png
ORGANIZER;CN="Border Brewing Company":MAILTO:info@borderbrewco.com
END:VEVENT
BEGIN:VEVENT
DTSTART;TZID=UTC:20280323T160000
DTEND;TZID=UTC:20280323T210000
DTSTAMP:20260421T010731
CREATED:20250916T193343Z
LAST-MODIFIED:20250916T193343Z
UID:10000396-1837440000-1837458000@borderbrewco.com
SUMMARY:Test Batch Thursday
DESCRIPTION:Test Batch Thursday (4–9pm)\nEvery Thursday we tap a brand-new\, small experimental batch—think fresh ideas\, seasonal twists\, and one-off flavors you won’t find anywhere else. Pours are limited and often sell out\, so come early if you’ve got a curious palate. Grab a taste\, leave feedback\, and help us decide what should make it to the big tanks. Rotating options\, easy vibes\, and something different every week.
URL:https://borderbrewco.com/event/test-batch-thursday/2028-03-23/
LOCATION:MO
ATTACH;FMTTYPE=image/png:https://borderbrewco.com/wp-content/uploads/2025/09/tbtweb.png
END:VEVENT
BEGIN:VEVENT
DTSTART;TZID=UTC:20280329T183000
DTEND;TZID=UTC:20280329T213000
DTSTAMP:20260421T010731
CREATED:20250708T205812Z
LAST-MODIFIED:20250916T192614Z
UID:10000136-1837967400-1837978200@borderbrewco.com
SUMMARY:Trivia Night
DESCRIPTION:Weekly Trivia Night at Border Brewing\nEvery Wednesday | 6:30 PM | $5 Cover \nLooking for a trivia night that’s actually fun?Join us every Wednesday for Jeopardy-style trivia — a unique spin on game night with category boards\, escalating point values\, and Final Jeopardy-style wagering. \nThis isn’t your average bar trivia.\nExpect: \n• Thought-provoking questions across pop culture\, history\, science\, and more \n• Strategic gameplay that rewards brains and bold moves \n• Cash prizes for the top teams \n• Streetcar Pizza available on-site \n🎟 $5 per person to play (teams of up to 6)🍻 Taproom opens at 4 PM — come early to grab your table and your first pint \nGame kicks off at 6:30.Bring your crew\, flex your trivia brain\, and compete for bragging rights (and cash).
URL:https://borderbrewco.com/event/trivia-night/2028-03-29/
LOCATION:Border Brewing Company\, 512 E 18th Street\, Kansas City\, MO\, 64108\, United States
ATTACH;FMTTYPE=image/png:https://borderbrewco.com/wp-content/uploads/2025/07/Unknown.png
ORGANIZER;CN="Border Brewing Company":MAILTO:info@borderbrewco.com
END:VEVENT
BEGIN:VEVENT
DTSTART;TZID=UTC:20280330T160000
DTEND;TZID=UTC:20280330T210000
DTSTAMP:20260421T010731
CREATED:20250916T193343Z
LAST-MODIFIED:20250916T193343Z
UID:10000397-1838044800-1838062800@borderbrewco.com
SUMMARY:Test Batch Thursday
DESCRIPTION:Test Batch Thursday (4–9pm)\nEvery Thursday we tap a brand-new\, small experimental batch—think fresh ideas\, seasonal twists\, and one-off flavors you won’t find anywhere else. Pours are limited and often sell out\, so come early if you’ve got a curious palate. Grab a taste\, leave feedback\, and help us decide what should make it to the big tanks. Rotating options\, easy vibes\, and something different every week.
URL:https://borderbrewco.com/event/test-batch-thursday/2028-03-30/
LOCATION:MO
ATTACH;FMTTYPE=image/png:https://borderbrewco.com/wp-content/uploads/2025/09/tbtweb.png
END:VEVENT
END:VCALENDAR