BEGIN:VCALENDAR
VERSION:2.0
PRODID:-//Border Brewing Co - ECPv6.15.20//NONSGML v1.0//EN
CALSCALE:GREGORIAN
METHOD:PUBLISH
X-ORIGINAL-URL:https://borderbrewco.com
X-WR-CALDESC:Events for Border Brewing Co
REFRESH-INTERVAL;VALUE=DURATION:PT1H
X-Robots-Tag:noindex
X-PUBLISHED-TTL:PT1H
BEGIN:VTIMEZONE
TZID:UTC
BEGIN:STANDARD
TZOFFSETFROM:+0000
TZOFFSETTO:+0000
TZNAME:UTC
DTSTART:20270101T000000
END:STANDARD
END:VTIMEZONE
BEGIN:VEVENT
DTSTART;TZID=UTC:20280405T183000
DTEND;TZID=UTC:20280405T213000
DTSTAMP:20260421T022635
CREATED:20250708T205812Z
LAST-MODIFIED:20250916T192614Z
UID:10000137-1838572200-1838583000@borderbrewco.com
SUMMARY:Trivia Night
DESCRIPTION:Weekly Trivia Night at Border Brewing\nEvery Wednesday | 6:30 PM | $5 Cover \nLooking for a trivia night that’s actually fun?Join us every Wednesday for Jeopardy-style trivia — a unique spin on game night with category boards\, escalating point values\, and Final Jeopardy-style wagering. \nThis isn’t your average bar trivia.\nExpect: \n• Thought-provoking questions across pop culture\, history\, science\, and more \n• Strategic gameplay that rewards brains and bold moves \n• Cash prizes for the top teams \n• Streetcar Pizza available on-site \n🎟 $5 per person to play (teams of up to 6)🍻 Taproom opens at 4 PM — come early to grab your table and your first pint \nGame kicks off at 6:30.Bring your crew\, flex your trivia brain\, and compete for bragging rights (and cash).
URL:https://borderbrewco.com/event/trivia-night/2028-04-05/
LOCATION:Border Brewing Company\, 512 E 18th Street\, Kansas City\, MO\, 64108\, United States
ATTACH;FMTTYPE=image/png:https://borderbrewco.com/wp-content/uploads/2025/07/Unknown.png
ORGANIZER;CN="Border Brewing Company":MAILTO:info@borderbrewco.com
END:VEVENT
BEGIN:VEVENT
DTSTART;TZID=UTC:20280406T160000
DTEND;TZID=UTC:20280406T210000
DTSTAMP:20260421T022635
CREATED:20250916T193343Z
LAST-MODIFIED:20250916T193343Z
UID:10000398-1838649600-1838667600@borderbrewco.com
SUMMARY:Test Batch Thursday
DESCRIPTION:Test Batch Thursday (4–9pm)\nEvery Thursday we tap a brand-new\, small experimental batch—think fresh ideas\, seasonal twists\, and one-off flavors you won’t find anywhere else. Pours are limited and often sell out\, so come early if you’ve got a curious palate. Grab a taste\, leave feedback\, and help us decide what should make it to the big tanks. Rotating options\, easy vibes\, and something different every week.
URL:https://borderbrewco.com/event/test-batch-thursday/2028-04-06/
LOCATION:MO
ATTACH;FMTTYPE=image/png:https://borderbrewco.com/wp-content/uploads/2025/09/tbtweb.png
END:VEVENT
BEGIN:VEVENT
DTSTART;TZID=UTC:20280412T183000
DTEND;TZID=UTC:20280412T213000
DTSTAMP:20260421T022635
CREATED:20250708T205812Z
LAST-MODIFIED:20250916T192614Z
UID:10000138-1839177000-1839187800@borderbrewco.com
SUMMARY:Trivia Night
DESCRIPTION:Weekly Trivia Night at Border Brewing\nEvery Wednesday | 6:30 PM | $5 Cover \nLooking for a trivia night that’s actually fun?Join us every Wednesday for Jeopardy-style trivia — a unique spin on game night with category boards\, escalating point values\, and Final Jeopardy-style wagering. \nThis isn’t your average bar trivia.\nExpect: \n• Thought-provoking questions across pop culture\, history\, science\, and more \n• Strategic gameplay that rewards brains and bold moves \n• Cash prizes for the top teams \n• Streetcar Pizza available on-site \n🎟 $5 per person to play (teams of up to 6)🍻 Taproom opens at 4 PM — come early to grab your table and your first pint \nGame kicks off at 6:30.Bring your crew\, flex your trivia brain\, and compete for bragging rights (and cash).
URL:https://borderbrewco.com/event/trivia-night/2028-04-12/
LOCATION:Border Brewing Company\, 512 E 18th Street\, Kansas City\, MO\, 64108\, United States
ATTACH;FMTTYPE=image/png:https://borderbrewco.com/wp-content/uploads/2025/07/Unknown.png
ORGANIZER;CN="Border Brewing Company":MAILTO:info@borderbrewco.com
END:VEVENT
BEGIN:VEVENT
DTSTART;TZID=UTC:20280413T160000
DTEND;TZID=UTC:20280413T210000
DTSTAMP:20260421T022635
CREATED:20250916T193343Z
LAST-MODIFIED:20250916T193343Z
UID:10000399-1839254400-1839272400@borderbrewco.com
SUMMARY:Test Batch Thursday
DESCRIPTION:Test Batch Thursday (4–9pm)\nEvery Thursday we tap a brand-new\, small experimental batch—think fresh ideas\, seasonal twists\, and one-off flavors you won’t find anywhere else. Pours are limited and often sell out\, so come early if you’ve got a curious palate. Grab a taste\, leave feedback\, and help us decide what should make it to the big tanks. Rotating options\, easy vibes\, and something different every week.
URL:https://borderbrewco.com/event/test-batch-thursday/2028-04-13/
LOCATION:MO
ATTACH;FMTTYPE=image/png:https://borderbrewco.com/wp-content/uploads/2025/09/tbtweb.png
END:VEVENT
BEGIN:VEVENT
DTSTART;TZID=UTC:20280419T183000
DTEND;TZID=UTC:20280419T213000
DTSTAMP:20260421T022635
CREATED:20250708T205812Z
LAST-MODIFIED:20250916T192614Z
UID:10000139-1839781800-1839792600@borderbrewco.com
SUMMARY:Trivia Night
DESCRIPTION:Weekly Trivia Night at Border Brewing\nEvery Wednesday | 6:30 PM | $5 Cover \nLooking for a trivia night that’s actually fun?Join us every Wednesday for Jeopardy-style trivia — a unique spin on game night with category boards\, escalating point values\, and Final Jeopardy-style wagering. \nThis isn’t your average bar trivia.\nExpect: \n• Thought-provoking questions across pop culture\, history\, science\, and more \n• Strategic gameplay that rewards brains and bold moves \n• Cash prizes for the top teams \n• Streetcar Pizza available on-site \n🎟 $5 per person to play (teams of up to 6)🍻 Taproom opens at 4 PM — come early to grab your table and your first pint \nGame kicks off at 6:30.Bring your crew\, flex your trivia brain\, and compete for bragging rights (and cash).
URL:https://borderbrewco.com/event/trivia-night/2028-04-19/
LOCATION:Border Brewing Company\, 512 E 18th Street\, Kansas City\, MO\, 64108\, United States
ATTACH;FMTTYPE=image/png:https://borderbrewco.com/wp-content/uploads/2025/07/Unknown.png
ORGANIZER;CN="Border Brewing Company":MAILTO:info@borderbrewco.com
END:VEVENT
BEGIN:VEVENT
DTSTART;TZID=UTC:20280420T160000
DTEND;TZID=UTC:20280420T210000
DTSTAMP:20260421T022635
CREATED:20250916T193343Z
LAST-MODIFIED:20250916T193343Z
UID:10000400-1839859200-1839877200@borderbrewco.com
SUMMARY:Test Batch Thursday
DESCRIPTION:Test Batch Thursday (4–9pm)\nEvery Thursday we tap a brand-new\, small experimental batch—think fresh ideas\, seasonal twists\, and one-off flavors you won’t find anywhere else. Pours are limited and often sell out\, so come early if you’ve got a curious palate. Grab a taste\, leave feedback\, and help us decide what should make it to the big tanks. Rotating options\, easy vibes\, and something different every week.
URL:https://borderbrewco.com/event/test-batch-thursday/2028-04-20/
LOCATION:MO
ATTACH;FMTTYPE=image/png:https://borderbrewco.com/wp-content/uploads/2025/09/tbtweb.png
END:VEVENT
BEGIN:VEVENT
DTSTART;TZID=UTC:20280426T183000
DTEND;TZID=UTC:20280426T213000
DTSTAMP:20260421T022635
CREATED:20250708T205812Z
LAST-MODIFIED:20250916T192614Z
UID:10000140-1840386600-1840397400@borderbrewco.com
SUMMARY:Trivia Night
DESCRIPTION:Weekly Trivia Night at Border Brewing\nEvery Wednesday | 6:30 PM | $5 Cover \nLooking for a trivia night that’s actually fun?Join us every Wednesday for Jeopardy-style trivia — a unique spin on game night with category boards\, escalating point values\, and Final Jeopardy-style wagering. \nThis isn’t your average bar trivia.\nExpect: \n• Thought-provoking questions across pop culture\, history\, science\, and more \n• Strategic gameplay that rewards brains and bold moves \n• Cash prizes for the top teams \n• Streetcar Pizza available on-site \n🎟 $5 per person to play (teams of up to 6)🍻 Taproom opens at 4 PM — come early to grab your table and your first pint \nGame kicks off at 6:30.Bring your crew\, flex your trivia brain\, and compete for bragging rights (and cash).
URL:https://borderbrewco.com/event/trivia-night/2028-04-26/
LOCATION:Border Brewing Company\, 512 E 18th Street\, Kansas City\, MO\, 64108\, United States
ATTACH;FMTTYPE=image/png:https://borderbrewco.com/wp-content/uploads/2025/07/Unknown.png
ORGANIZER;CN="Border Brewing Company":MAILTO:info@borderbrewco.com
END:VEVENT
BEGIN:VEVENT
DTSTART;TZID=UTC:20280427T160000
DTEND;TZID=UTC:20280427T210000
DTSTAMP:20260421T022635
CREATED:20250916T193343Z
LAST-MODIFIED:20250916T193343Z
UID:10000401-1840464000-1840482000@borderbrewco.com
SUMMARY:Test Batch Thursday
DESCRIPTION:Test Batch Thursday (4–9pm)\nEvery Thursday we tap a brand-new\, small experimental batch—think fresh ideas\, seasonal twists\, and one-off flavors you won’t find anywhere else. Pours are limited and often sell out\, so come early if you’ve got a curious palate. Grab a taste\, leave feedback\, and help us decide what should make it to the big tanks. Rotating options\, easy vibes\, and something different every week.
URL:https://borderbrewco.com/event/test-batch-thursday/2028-04-27/
LOCATION:MO
ATTACH;FMTTYPE=image/png:https://borderbrewco.com/wp-content/uploads/2025/09/tbtweb.png
END:VEVENT
END:VCALENDAR